BEGIN:VCALENDAR
VERSION:2.0
PRODID:-//www.rainbowrosecenter.org//NONSGML kigkonsult.se iCalcreator 2.30
 .10//
CALSCALE:GREGORIAN
METHOD:PUBLISH
UID:ea8faa06-e010-4e20-9d98-3728cbd1f52e
X-WR-CALDESC:Seats are limited\, so please complete this form to reserve yo
 ur spot. This event is part of our monthly one-shot series held on the fir
 st Tuesday of every month\, facilitated by The Rainbow Rose Center\, and g
 enerously sponsored by the York County Community Foundation.
X-WR-RELCALID:9f4044e65bf8710f17f08d2ec22ae5fe
X-WR-TIMEZONE:America/New_York
BEGIN:VTIMEZONE
TZID:America/New_York
BEGIN:STANDARD
TZNAME:EST
DTSTART:20251102T020000
TZOFFSETFROM:-0400
TZOFFSETTO:-0500
RDATE:20261101T020000
RDATE:20271107T020000
END:STANDARD
BEGIN:DAYLIGHT
TZNAME:EDT
DTSTART:20260308T020000
TZOFFSETFROM:-0500
TZOFFSETTO:-0400
RDATE:20270314T020000
END:DAYLIGHT
END:VTIMEZONE
BEGIN:VEVENT
UID:a45a58ae-2018-49cc-9e06-36d2cb9519a2
DTSTAMP:20260424T071821Z
DESCRIPTION:Seats are limited\, so please complete this form to reserve you
 r spot. This event is part of our monthly one-shot series held on the firs
 t Tuesday of every month\, facilitated by The Rainbow Rose Center\, and ge
 nerously sponsored by the York County Community Foundation.
DTSTART;TZID=America/New_York:20260602T170000
DTEND;TZID=America/New_York:20260602T200000
LOCATION:124 Broadway\, Hanover\, PA 17331 US
SUMMARY:Hanover: Monthly One-Shot
END:VEVENT
END:VCALENDAR
