BEGIN:VCALENDAR
VERSION:2.0
PRODID:-//www.rainbowrosecenter.org//NONSGML kigkonsult.se iCalcreator 2.30
 .10//
CALSCALE:GREGORIAN
METHOD:PUBLISH
UID:a0d0ccf5-0e8f-4475-b9f0-8044deac2436
X-WR-CALDESC:Join us for a free\, community-centered Clothing Swap on May 3
 0th from 12–6 PM at Apricity Products (2549 S. Queen St.\, York\, PA).\n\n
 Bring clean\, gently used clothing and take home anything that fits your s
 tyle and needs. This swap is fully gender-inclusive\, with items organized
  by size to make browsing easy and accessible for everyone.\n\nNo need to 
 bring items to participate. Everyone is welcome to come and find something
  new to them.\n\nAny clothing remaining at the end of the event will be do
 nated to the Rainbow Rose Center’s Gender Affirming Community Closet\, hel
 ping extend the impact of your contributions even further.\n\nCome swap\, 
 connect\, and support community care.
X-WR-RELCALID:4b44114a347a4be0280998be6bd2efe4
X-WR-TIMEZONE:America/New_York
BEGIN:VTIMEZONE
TZID:America/New_York
BEGIN:STANDARD
TZNAME:EST
DTSTART:20251102T020000
TZOFFSETFROM:-0400
TZOFFSETTO:-0500
RDATE:20261101T020000
RDATE:20271107T020000
END:STANDARD
BEGIN:DAYLIGHT
TZNAME:EDT
DTSTART:20260308T020000
TZOFFSETFROM:-0500
TZOFFSETTO:-0400
RDATE:20270314T020000
END:DAYLIGHT
END:VTIMEZONE
BEGIN:VEVENT
UID:0cc8ae87-e01d-4606-9a19-393e48d1a5ef
DTSTAMP:20260424T071836Z
DESCRIPTION:Join us for a free\, community-centered Clothing Swap on May 30
 th from 12–6 PM at Apricity Products (2549 S. Queen St.\, York\, PA).\n\nB
 ring clean\, gently used clothing and take home anything that fits your st
 yle and needs. This swap is fully gender-inclusive\, with items organized 
 by size to make browsing easy and accessible for everyone.\n\nNo need to b
 ring items to participate. Everyone is welcome to come and find something 
 new to them.\n\nAny clothing remaining at the end of the event will be don
 ated to the Rainbow Rose Center’s Gender Affirming Community Closet\, help
 ing extend the impact of your contributions even further.\n\nCome swap\, c
 onnect\, and support community care.
DTSTART;TZID=America/New_York:20260530T120000
DTEND;TZID=America/New_York:20260530T180000
LOCATION:2549 S. Queen St.\, York\, PA 17402 US
SUMMARY:York: Community Clothing Swap!
END:VEVENT
END:VCALENDAR
