BEGIN:VCALENDAR
VERSION:2.0
PRODID:-//www.rainbowrosecenter.org//NONSGML kigkonsult.se iCalcreator 2.30
 .10//
CALSCALE:GREGORIAN
METHOD:PUBLISH
UID:c85dd48e-df78-4410-b854-0a5529bf8606
X-WR-CALDESC:It's that big gay block party... you know the one πΌβ¨\n\nWe're 
 back on for round 3οΈβ£\, and this time\, for a proper pop-off for Pride mon
 th on May 29th. PLUS\, longer hours (6-10 PM) and a new location!\n\nFind 
 us in the parking lot of Collusion Tap Works for all the drag\, dancing\, 
 and obvi\, the dunk-a-straight fundraiser dunk tank! Food\, face-paining\,
  drinks (alch & non-alch)\, and other surprises--like a special screening 
 of the award-winning documentary short\, Amish Country Queer. π­(This will 
 happen inside The Side Show at Collusion around 9 PM!)\n\nπCome join us fo
 r the queens\, chaos\, and queer joy that we all need right now.\n\nRoyal 
 Square will also be offering events around the neighborhood\, such as the 
 Chalk the Walk sponsored by Creatives on King!\n\nPride's about to pop-off
  in York Cityyyy! Can't wait to see you there!\n\nπ³Έβπ³οΈβπ³οΈβπ
X-WR-RELCALID:4b745a316bc72939c3d2834844531a58
X-WR-TIMEZONE:America/New_York
BEGIN:VTIMEZONE
TZID:America/New_York
BEGIN:STANDARD
TZNAME:EST
DTSTART:20251102T020000
TZOFFSETFROM:-0400
TZOFFSETTO:-0500
RDATE:20261101T020000
RDATE:20271107T020000
END:STANDARD
BEGIN:DAYLIGHT
TZNAME:EDT
DTSTART:20260308T020000
TZOFFSETFROM:-0500
TZOFFSETTO:-0400
RDATE:20270314T020000
END:DAYLIGHT
END:VTIMEZONE
BEGIN:VEVENT
UID:6cc6d073-c245-4222-b427-fe98c298216c
DTSTAMP:20260424T072533Z
DESCRIPTION:It's that big gay block party... you know the one πΌβ¨\n\nWe're b
 ack on for round 3οΈβ£\, and this time\, for a proper pop-off for Pride mont
 h on May 29th. PLUS\, longer hours (6-10 PM) and a new location!\n\nFind u
 s in the parking lot of Collusion Tap Works for all the drag\, dancing\, a
 nd obvi\, the dunk-a-straight fundraiser dunk tank! Food\, face-paining\, 
 drinks (alch & non-alch)\, and other surprises--like a special screening o
 f the award-winning documentary short\, Amish Country Queer. π­(This will h
 appen inside The Side Show at Collusion around 9 PM!)\n\nπCome join us for
  the queens\, chaos\, and queer joy that we all need right now.\n\nRoyal S
 quare will also be offering events around the neighborhood\, such as the C
 halk the Walk sponsored by Creatives on King!\n\nPride's about to pop-off 
 in York Cityyyy! Can't wait to see you there!\n\nπ³Έβπ³οΈβπ³οΈβπ
DTSTART;TZID=America/New_York:20260529T180000
DTEND;TZID=America/New_York:20260529T220000
LOCATION:105 S Howard St\, York\, PA 17401 US
SUMMARY:York: Pride Pop-Off
END:VEVENT
END:VCALENDAR
