BEGIN:VCALENDAR
VERSION:2.0
PRODID:-//www.rainbowrosecenter.org//NONSGML kigkonsult.se iCalcreator 2.30
 .10//
CALSCALE:GREGORIAN
METHOD:PUBLISH
UID:b3e6efb1-63f1-46ab-9905-b396e6b56e50
X-WR-CALDESC:Please join us on Sunday\, May 24\, from 1 to 3pm for a walk a
 round the hiking trail around Lake Williams!\n\nWe will meet at William H.
  Kain County Park\, located at 45 Water Street\, York PA 17407 before we s
 tart our trek along the blue (South Shore) trail. Please be sure to arrive
  by 1PM so we can start our walk on time. Make sure to bring a water bottl
 e\, comfortable shoes and if you'd like\, a post-hike snack.\n  \nPlease r
 each out to Natasha at nswiger@rainbowrosecenter.org with any questions.\n
 This group is Sponsored by the Rotary Club of East York.
X-WR-RELCALID:9ccccc7598026a2deda38b14c4ec47db
X-WR-TIMEZONE:America/New_York
BEGIN:VTIMEZONE
TZID:America/New_York
BEGIN:STANDARD
TZNAME:EST
DTSTART:20251102T020000
TZOFFSETFROM:-0400
TZOFFSETTO:-0500
RDATE:20261101T020000
RDATE:20271107T020000
END:STANDARD
BEGIN:DAYLIGHT
TZNAME:EDT
DTSTART:20260308T020000
TZOFFSETFROM:-0500
TZOFFSETTO:-0400
RDATE:20270314T020000
END:DAYLIGHT
END:VTIMEZONE
BEGIN:VEVENT
UID:0a933b41-6956-4550-baa8-8a04cd06f716
DTSTAMP:20260424T181614Z
DESCRIPTION:Please join us on Sunday\, May 24\, from 1 to 3pm for a walk ar
 ound the hiking trail around Lake Williams!\n\nWe will meet at William H. 
 Kain County Park\, located at 45 Water Street\, York PA 17407 before we st
 art our trek along the blue (South Shore) trail. Please be sure to arrive 
 by 1PM so we can start our walk on time. Make sure to bring a water bottle
 \, comfortable shoes and if you'd like\, a post-hike snack.\n  \nPlease re
 ach out to Natasha at nswiger@rainbowrosecenter.org with any questions.\nT
 his group is Sponsored by the Rotary Club of East York.
DTSTART;TZID=America/New_York:20260524T130000
DTEND;TZID=America/New_York:20260524T150000
LOCATION:Sign up for address
SUMMARY:York: Teen Event Group
END:VEVENT
END:VCALENDAR
