BEGIN:VCALENDAR
VERSION:2.0
PRODID:-//www.rainbowrosecenter.org//NONSGML kigkonsult.se iCalcreator 2.30
 .10//
CALSCALE:GREGORIAN
METHOD:PUBLISH
UID:acdc58d4-d38e-44d5-bc6a-2ed739618558
X-WR-CALDESC:Celebrate the power and history of the LGBTQIA+ community with
  the Harrisburg Gay Men’s Chorus as they present For All Who Dared.\n\nJoi
 n us on May 16th at 7 PM at the Unitarian Universalist Congregation of Yor
 k (925 S George St\, York\, PA) for an evening of music honoring the voice
 s\, stories\, and resilience of those who paved the way.\n\nThis spring co
 ncert series highlights LGBTQIA+ history through song\, creating a meaning
 ful and uplifting experience for all who attend.
X-WR-RELCALID:ad1d018b7dbe8ac031bfc6240622aeb9
X-WR-TIMEZONE:America/New_York
BEGIN:VTIMEZONE
TZID:America/New_York
BEGIN:STANDARD
TZNAME:EST
DTSTART:20251102T020000
TZOFFSETFROM:-0400
TZOFFSETTO:-0500
RDATE:20261101T020000
RDATE:20271107T020000
END:STANDARD
BEGIN:DAYLIGHT
TZNAME:EDT
DTSTART:20260308T020000
TZOFFSETFROM:-0500
TZOFFSETTO:-0400
RDATE:20270314T020000
END:DAYLIGHT
END:VTIMEZONE
BEGIN:VEVENT
UID:c37ce8be-b394-44ea-bb91-e7ed32231b5d
DTSTAMP:20260424T071637Z
DESCRIPTION:Celebrate the power and history of the LGBTQIA+ community with 
 the Harrisburg Gay Men’s Chorus as they present For All Who Dared.\n\nJoin
  us on May 16th at 7 PM at the Unitarian Universalist Congregation of York
  (925 S George St\, York\, PA) for an evening of music honoring the voices
 \, stories\, and resilience of those who paved the way.\n\nThis spring con
 cert series highlights LGBTQIA+ history through song\, creating a meaningf
 ul and uplifting experience for all who attend.
DTSTART;TZID=America/New_York:20260516T190000
DTEND;TZID=America/New_York:20260516T210000
LOCATION:925 South George St.\, York\, PA 17403 US
SUMMARY:York: For All Who Dared HGMC Show
END:VEVENT
END:VCALENDAR
