BEGIN:VCALENDAR
VERSION:2.0
PRODID:-//www.rainbowrosecenter.org//NONSGML kigkonsult.se iCalcreator 2.30
 .10//
CALSCALE:GREGORIAN
METHOD:PUBLISH
UID:02fb2397-c845-4f4c-9865-4aa44dd76ffc
X-WR-CALDESC:Join us for Splitshift Thursdays\, a lively night of drag\, ga
 mes\, and community hosted by Alizee LaDiamond.\n\nHappening every 2nd and
  4th Thursday of the month at Splitshift in downtown York\, this event bri
 ngs together high-energy performances\, interactive fun\, and a welcoming 
 atmosphere for all.\n\nThe show starts at 8 PM\, with a $10 cover at the d
 oor.\n\nCome out to 33–35 W Market St\, York\, PA and enjoy a night full o
 f entertainment\, laughter\, and great company.
X-WR-RELCALID:dee61f19c5e218ed4685c58b0ac21c9c
X-WR-TIMEZONE:America/New_York
BEGIN:VTIMEZONE
TZID:America/New_York
BEGIN:STANDARD
TZNAME:EST
DTSTART:20251102T020000
TZOFFSETFROM:-0400
TZOFFSETTO:-0500
RDATE:20261101T020000
RDATE:20271107T020000
END:STANDARD
BEGIN:DAYLIGHT
TZNAME:EDT
DTSTART:20260308T020000
TZOFFSETFROM:-0500
TZOFFSETTO:-0400
RDATE:20270314T020000
END:DAYLIGHT
END:VTIMEZONE
BEGIN:VEVENT
UID:36ff3c19-04bc-44b0-bb3c-cad84d6ed9da
DTSTAMP:20260424T072224Z
DESCRIPTION:Join us for Splitshift Thursdays\, a lively night of drag\, gam
 es\, and community hosted by Alizee LaDiamond.\n\nHappening every 2nd and 
 4th Thursday of the month at Splitshift in downtown York\, this event brin
 gs together high-energy performances\, interactive fun\, and a welcoming a
 tmosphere for all.\n\nThe show starts at 8 PM\, with a $10 cover at the do
 or.\n\nCome out to 33–35 W Market St\, York\, PA and enjoy a night full of
  entertainment\, laughter\, and great company.
DTSTART;TZID=America/New_York:20260514T200000
DTEND;TZID=America/New_York:20260514T210000
LOCATION:33 W. Market St.\, York\, PA 17401 US
SUMMARY:York: Splitshift Thursdays
END:VEVENT
END:VCALENDAR
