BEGIN:VCALENDAR
VERSION:2.0
PRODID:-//www.rainbowrosecenter.org//NONSGML kigkonsult.se iCalcreator 2.30
 .10//
CALSCALE:GREGORIAN
METHOD:PUBLISH
UID:64c6dd4b-3dcb-410e-8daa-5a5fc32e29c7
X-WR-CALDESC:Tonality Music Therapy and Rainbow Rose Center are partnering 
 to offer a free-of-cost\, music therapy group centered around supporting a
 nd exploring queer identity through music. Groups will include exploring q
 ueer artists and musicians\, finding and using our voices through music\, 
 songwriting\, and creative exploration. All identities are welcomed and ce
 lebrated!\n\nPlease complete the form to participate! https://docs.google.
 com/forms/d/e/1FAIpQLScGSd1wv3yX5wx0UH-mxAkU1Fo_ETcgmt7BwQhoHIPxkHBUiw/vie
 wform?usp=publish-editor\n\nThe group meets on the second and fourth Thurs
 day of each month starting April 30th. Email reminders will be sent out th
 e day of group\, please check the email with description of group and repl
 y if you plan to attend. If you have any questions or concerns\, please re
 ach out to Jenna at tonalitymusictherapy@gmail.com.
X-WR-RELCALID:6e66e385533840d6274e74774b8f51ca
X-WR-TIMEZONE:America/New_York
BEGIN:VTIMEZONE
TZID:America/New_York
BEGIN:STANDARD
TZNAME:EST
DTSTART:20251102T020000
TZOFFSETFROM:-0400
TZOFFSETTO:-0500
RDATE:20261101T020000
RDATE:20271107T020000
END:STANDARD
BEGIN:DAYLIGHT
TZNAME:EDT
DTSTART:20260308T020000
TZOFFSETFROM:-0500
TZOFFSETTO:-0400
RDATE:20270314T020000
END:DAYLIGHT
END:VTIMEZONE
BEGIN:VEVENT
UID:236b39e3-0533-45ab-a70b-20e1983eb2d7
DTSTAMP:20260424T071935Z
DESCRIPTION:Tonality Music Therapy and Rainbow Rose Center are partnering t
 o offer a free-of-cost\, music therapy group centered around supporting an
 d exploring queer identity through music. Groups will include exploring qu
 eer artists and musicians\, finding and using our voices through music\, s
 ongwriting\, and creative exploration. All identities are welcomed and cel
 ebrated!\n\nPlease complete the form to participate! https://docs.google.c
 om/forms/d/e/1FAIpQLScGSd1wv3yX5wx0UH-mxAkU1Fo_ETcgmt7BwQhoHIPxkHBUiw/view
 form?usp=publish-editor\n\nThe group meets on the second and fourth Thursd
 ay of each month starting April 30th. Email reminders will be sent out the
  day of group\, please check the email with description of group and reply
  if you plan to attend. If you have any questions or concerns\, please rea
 ch out to Jenna at tonalitymusictherapy@gmail.com.
DTSTART;TZID=America/New_York:20260514T183000
DTEND;TZID=America/New_York:20260514T200000
LOCATION:430 Baltimore St\, Gettysburg\, PA 17325 US
SUMMARY:Gettysburg: Queer Music Therapy Group
END:VEVENT
END:VCALENDAR
