BEGIN:VCALENDAR
VERSION:2.0
PRODID:-//www.rainbowrosecenter.org//NONSGML kigkonsult.se iCalcreator 2.30
 .10//
CALSCALE:GREGORIAN
METHOD:PUBLISH
UID:50292bd9-3ded-480e-9ea0-ad260908cdae
X-WR-CALDESC:Join us for a happy hour at Four Points by Sheraton! A percent
 age of drink special sales will benefit the Rainbow Rose Center directly.
 \n\nDrink Specials are:\nPride Sweet Pride: chocolate strawberry martini\n
 Puffy Pink or Puffy Blue: cotton candy mimosa
X-WR-RELCALID:31db15a8890c0c68fb27ceb4d785b540
X-WR-TIMEZONE:America/New_York
BEGIN:VTIMEZONE
TZID:America/New_York
BEGIN:STANDARD
TZNAME:EST
DTSTART:20231105T020000
TZOFFSETFROM:-0400
TZOFFSETTO:-0500
RDATE:20241103T020000
RDATE:20251102T020000
END:STANDARD
BEGIN:DAYLIGHT
TZNAME:EDT
DTSTART:20240310T020000
TZOFFSETFROM:-0500
TZOFFSETTO:-0400
RDATE:20250309T020000
END:DAYLIGHT
END:VTIMEZONE
BEGIN:VEVENT
UID:961a583e-cd70-444c-adb2-d4a37729b2e0
DTSTAMP:20260424T022459Z
DESCRIPTION:Join us for a happy hour at Four Points by Sheraton! A percenta
 ge of drink special sales will benefit the Rainbow Rose Center directly.\n
 \nDrink Specials are:\nPride Sweet Pride: chocolate strawberry martini\nPu
 ffy Pink or Puffy Blue: cotton candy mimosa
DTSTART;TZID=America/New_York:20240621T160000
DTEND;TZID=America/New_York:20240621T180000
LOCATION:Four Points By Sheraton\, 1650 Toronita Street\, York\, PA 17402 U
 S
SUMMARY:Happy Pride Happy Hour
END:VEVENT
END:VCALENDAR
